BEGIN:VCALENDAR
VERSION:2.0
PRODID:-//NK Lokomotiva Zagreb - ECPv6.15.20//NONSGML v1.0//EN
CALSCALE:GREGORIAN
METHOD:PUBLISH
X-WR-CALNAME:NK Lokomotiva Zagreb
X-ORIGINAL-URL:https://nklokomotiva.hr
X-WR-CALDESC:Događaji za NK Lokomotiva Zagreb
REFRESH-INTERVAL;VALUE=DURATION:PT1H
X-Robots-Tag:noindex
X-PUBLISHED-TTL:PT1H
BEGIN:VTIMEZONE
TZID:UTC
BEGIN:STANDARD
TZOFFSETFROM:+0000
TZOFFSETTO:+0000
TZNAME:UTC
DTSTART:20240101T000000
END:STANDARD
END:VTIMEZONE
BEGIN:VEVENT
DTSTART;TZID=UTC:20250916T200000
DTEND;TZID=UTC:20250920T200000
DTSTAMP:20260422T195314
CREATED:20250917T091928Z
LAST-MODIFIED:20250917T092111Z
UID:39921-1758052800-1758398400@nklokomotiva.hr
SUMMARY:NK Lokomotiva - NK Varaždin
DESCRIPTION:KUPI ULAZNICU
URL:https://nklokomotiva.hr/dogadaj/nk-lokomotiva-nk-varazdin/
LOCATION:Stadion Maksimir\, Maksimirska cesta 128\, Zagreb\, Grad Zagreb\, 10020\, Croatia (Local Name: Hrvatska)
CATEGORIES:SuperSport HNL
END:VEVENT
END:VCALENDAR