BEGIN:VCALENDAR
VERSION:2.0
PRODID:-//NK Lokomotiva Zagreb - ECPv6.15.20//NONSGML v1.0//EN
CALSCALE:GREGORIAN
METHOD:PUBLISH
X-ORIGINAL-URL:https://nklokomotiva.hr
X-WR-CALDESC:Događaji za NK Lokomotiva Zagreb
REFRESH-INTERVAL;VALUE=DURATION:PT1H
X-Robots-Tag:noindex
X-PUBLISHED-TTL:PT1H
BEGIN:VTIMEZONE
TZID:UTC
BEGIN:STANDARD
TZOFFSETFROM:+0000
TZOFFSETTO:+0000
TZNAME:UTC
DTSTART:20240101T000000
END:STANDARD
END:VTIMEZONE
BEGIN:VEVENT
DTSTART;TZID=UTC:20251107T080000
DTEND;TZID=UTC:20251108T170000
DTSTAMP:20260422T172932
CREATED:20251104T073456Z
LAST-MODIFIED:20251107T100209Z
UID:40224-1762502400-1762621200@nklokomotiva.hr
SUMMARY:Lokomotiva - Slaven Belupo
DESCRIPTION:KUPI ULAZNICU
URL:https://nklokomotiva.hr/dogadaj/lokomotiva-slaven-belupo/
LOCATION:Stadion Maksimir\, Maksimirska cesta 128\, Zagreb\, Grad Zagreb\, 10020\, Croatia (Local Name: Hrvatska)
CATEGORIES:SuperSport HNL
END:VEVENT
BEGIN:VEVENT
DTSTART;TZID=UTC:20251130T150000
DTEND;TZID=UTC:20251130T170000
DTSTAMP:20260422T172932
CREATED:20251112T104652Z
LAST-MODIFIED:20251201T093741Z
UID:40279-1764514800-1764522000@nklokomotiva.hr
SUMMARY:Lokomotiva - Rijeka
DESCRIPTION:KUPI ULAZNICU!
URL:https://nklokomotiva.hr/dogadaj/lokomotiva-rijeka/
LOCATION:Stadion Maksimir\, Maksimirska cesta 128\, Zagreb\, Grad Zagreb\, 10020\, Croatia (Local Name: Hrvatska)
CATEGORIES:SuperSport HNL
END:VEVENT
END:VCALENDAR