BEGIN:VCALENDAR
VERSION:2.0
PRODID:-//NK Lokomotiva Zagreb - ECPv6.15.20//NONSGML v1.0//EN
CALSCALE:GREGORIAN
METHOD:PUBLISH
X-WR-CALNAME:NK Lokomotiva Zagreb
X-ORIGINAL-URL:https://nklokomotiva.hr
X-WR-CALDESC:Događaji za NK Lokomotiva Zagreb
REFRESH-INTERVAL;VALUE=DURATION:PT1H
X-Robots-Tag:noindex
X-PUBLISHED-TTL:PT1H
BEGIN:VTIMEZONE
TZID:UTC
BEGIN:STANDARD
TZOFFSETFROM:+0000
TZOFFSETTO:+0000
TZNAME:UTC
DTSTART:20240101T000000
END:STANDARD
END:VTIMEZONE
BEGIN:VEVENT
DTSTART;TZID=UTC:20251025T154500
DTEND;TZID=UTC:20251025T174500
DTSTAMP:20260421T230613
CREATED:20251020T135138Z
LAST-MODIFIED:20251020T135220Z
UID:40157-1761407100-1761414300@nklokomotiva.hr
SUMMARY:Lokomotiva - Istra 1961.
DESCRIPTION:KUPI ULAZNICU
URL:https://nklokomotiva.hr/dogadaj/lokomotiva-istra-1961/
LOCATION:Stadion Maksimir\, Maksimirska cesta 128\, Zagreb\, Grad Zagreb\, 10020\, Croatia (Local Name: Hrvatska)
CATEGORIES:SuperSport HNL
END:VEVENT
END:VCALENDAR