BEGIN:VCALENDAR
VERSION:2.0
PRODID:-//NK Lokomotiva Zagreb - ECPv6.15.20//NONSGML v1.0//EN
CALSCALE:GREGORIAN
METHOD:PUBLISH
X-WR-CALNAME:NK Lokomotiva Zagreb
X-ORIGINAL-URL:https://nklokomotiva.hr
X-WR-CALDESC:Događaji za NK Lokomotiva Zagreb
REFRESH-INTERVAL;VALUE=DURATION:PT1H
X-Robots-Tag:noindex
X-PUBLISHED-TTL:PT1H
BEGIN:VTIMEZONE
TZID:UTC
BEGIN:STANDARD
TZOFFSETFROM:+0000
TZOFFSETTO:+0000
TZNAME:UTC
DTSTART:20250101T000000
END:STANDARD
END:VTIMEZONE
BEGIN:VEVENT
DTSTART;TZID=UTC:20260516T181500
DTEND;TZID=UTC:20260516T201500
DTSTAMP:20260422T223311
CREATED:20260422T081905Z
LAST-MODIFIED:20260422T081905Z
UID:41176-1778955300-1778962500@nklokomotiva.hr
SUMMARY:Lokomotiva - Hajduk
DESCRIPTION:
URL:https://nklokomotiva.hr/dogadaj/lokomotiva-hajduk-2/
LOCATION:Stadion Maksimir\, Maksimirska cesta 128\, Zagreb\, Grad Zagreb\, 10020\, Croatia (Local Name: Hrvatska)
CATEGORIES:SuperSport HNL
END:VEVENT
END:VCALENDAR